BEGIN:VCALENDAR
VERSION:2.0
PRODID:icalendar-ruby
CALSCALE:GREGORIAN
METHOD:PUBLISH
BEGIN:VEVENT
DTSTAMP:20260420T170118Z
UID:202-1828549@unitycharlottesville.org
DTSTART:20261107T150000Z
DTEND:20261107T170000Z
CLASS:PUBLIC
CREATED:20260420T120637
DESCRIPTION:All are welcome to join fellow spiritual seekers for robust dis
 cussion of Unity-aligned books\, videos\, experiences\, ideas\, and practi
 ces\nParticipants receive monthly emails with links to articles\, books\, 
 and videos that form the basis for sharing around experiences and interpre
 tations. \nPlease contact v.collier@earthlink.net for more information
LAST-MODIFIED:20260420T120637
LOCATION:Zoom
SUMMARY:Spiritual Explorers
URL;VALUE=URI:https://unitycharlottesville.org/events/spiritual-explorers--
 201/2026-11-07
ATTACH;FILENAME=Screenshot-2026-01-27-110956.png;FMTTYPE=image/png:https://
 dq5pwpg1q8ru0.cloudfront.net/2026/01/27/16/11/14/986942d6-1c1b-474c-a825-a
 bc68d6a3b73/Screenshot-2026-01-27-110956.png
END:VEVENT
END:VCALENDAR
